BEGIN:VCALENDAR
VERSION:2.0
PRODID:-//TYPO3/NONSGML Calendarize//EN
BEGIN:VEVENT
UID:calendarize-achtsamkeit-und-chronischer-schmerz-1
DTSTAMP:20260423T090843Z
DTSTART:20240917T160000Z
DTEND:20240917T170000Z
SUMMARY:+++ ENTFÄLLT +++ Achtsamkeit und chronischer Schmerz
DESCRIPTION:Dieser Vortrag muss leider kurzfristig abgesagt werden und wir
 d nach Möglichkeit auf einen anderen Termin verschoben.
X-ALT-DESC;FMTTYPE=text/html:<p>Dieser Vortrag muss leider kurzfristig abg
 esagt werden und wird nach Möglichkeit auf einen anderen Termin verschobe
 n.</p>
LOCATION:Raum Hammerbach
END:VEVENT
END:VCALENDAR
