BEGIN:VCALENDAR
VERSION:2.0
PRODID:-//TYPO3/NONSGML Calendarize//EN
BEGIN:VEVENT
UID:calendarize-entfaellt-informationsabend-fuer-werdende-eltern
DTSTAMP:20260420T091653Z
DTSTART:20250904T170000Z
DTEND:20250904T180000Z
SUMMARY:ENTFÄLLT: Informationsabend für werdende Eltern
DESCRIPTION:Im Rahmen des Informationsabends erfahren werdende Eltern alle
 s über die geburtshilfliche Abteilung und das Team der Geburtsstation am 
 Klinikum Landshut. Die Mitglieder des Ärzte- und Hebammenteams informiere
 n umfassend über Abläufe und Angebot.\nAußerdem werden die Eltern\, sow
 eit möglich\, durch den Kreißsaal und die Station geführt.\nDie werdend
 en Eltern können gerne jederzeit Fragen zu stellen.\nEine Anmeldung ist n
 icht erforderlich.
X-ALT-DESC;FMTTYPE=text/html:<p>Im Rahmen des Informationsabends erfahren 
 werdende Eltern alles über die geburtshilfliche Abteilung und das Team de
 r Geburtsstation am Klinikum Landshut. Die Mitglieder des Ärzte- und Heba
 mmenteams informieren umfassend über Abläufe und Angebot.</p>\n<p>Außer
 dem werden die Eltern\, soweit möglich\, durch den Kreißsaal und die Sta
 tion geführt.</p>\n<p>Die werdenden Eltern können gerne jederzeit Fragen
  zu stellen.</p>\n<p>Eine Anmeldung ist nicht erforderlich.</p>
LOCATION:Klinikum Landshut\, Raum Hammerbach
END:VEVENT
END:VCALENDAR
