BEGIN:VCALENDAR
VERSION:2.0
PRODID:-//TYPO3/NONSGML Calendarize//EN
BEGIN:VEVENT
UID:calendarize-landshuter-wundkongress-2025
DTSTAMP:20260422T092344Z
DTSTART:20250924T070000Z
DTEND:20250924T150000Z
SUMMARY:Landshuter Wundkongress 2025
DESCRIPTION:Programm:\n 	08.00 Uhr - Beginn der Industrieausstellung und R
 egistrierung 	09.00 Uhr - Begrüßung \nTeil 1: Brennpunkt Lymphödem\n 	0
 9.10 Uhr - Dr. Sören Sörensen 	Grenzgänger im Gewebe: Ödeme an der Sch
 nittstelle zwischen lokalen 	und systemischen Ursachen 	09.50 Uhr - Prof. 
 Dr. med. Christian Taeger 	Lymphödem: Grenzen der konservativen Therapie 
 - Wann kommt die Chirurgie ins Spiel? 	10.30 Uhr - Monika Hofstetter 	Von 
 der Schwellung bis zur Heilung: Die Kunst der komplexen physikalischen Ent
 stauung 	11.10 Uhr - Pause\, Industrieausstellung \nTeil 2: Kompetenz\, Ko
 mpakt: Neue Leitlinien\n 	11.30 Uhr - Priv.-Doz. Dr. med. Dr. h.c. Georgio
 s 	Meimarakis 	Die off ene “Wunde” der Wahrheit: Von der Theorie zur P
 raxis\, aktuelle Leitlinien für das Ulcus cruris venosum 	12.10 Uhr - Cor
 nelia Straßer 	Integrales Debridement im 21. Jahrhundert Im Fokus des Int
 ernational Consensus-Dokuments 	12.50 Uhr - Claudia Schatz 	Druckulzera: I
 nternationale Zusammenarbeit und evidenzbasierte Fortschritte. Aktualisier
 te Leitlinien 2025 	13.30 Uhr - Mittagspause\, Industrieausstellung und Wo
 rkshops \nTeil 3: Herausforderungen\, die uns bewegen\n 	15.00 Uhr - Dr. m
 ed. Maximilian Roeder 	Jenseits der Norm: Herausforderungen in der Diff er
 enzialdiagnose des Ulcus cruris 	15.40 Uhr - Oliver Gunia 	Wundversorgung 
 am Rande der Gesellschaft: Bericht aus der Praxis der Wundversorgung in so
 zialen Randgruppen 	16.20 Uhr - Stephan Hennecke 	Herausforderndes Wundman
 agement in Krisengebieten: Einblick hinter die Kulissen der humanitären M
 edizin 	17.00 Uhr - Übergabe der Zertifikate \nWorkshops\nEin Workshop da
 uert 20 Minuten\, diese können während der Mittagspause optional besucht
  werden. Jeder Workshop ist auf 20 Teilnehmer begrenzt und findet zwei mal
  statt.\nWorkshop 1: 13.30 - 14.30 Uhr Workshop 2: 14:40 - 15.00 Uhr\n 	Bi
 ochirurgisches Débridement\, Fa. Biomonde\, Martina Rivers 	IPK - intermi
 ttierende pneumatische Kompression\, Klinikum Landshut AöR\, Semic Haris 
 	Lymphologische Kompression nach Lymphdrainage\, Physiotherapiezentrum Fal
 kenberg\, Monika Hofstetter 	Medizinisch adaptive Kompression\, Fa. Göldn
 er\, Jennifer Weißhuhn \nAnmeldung\nSebastian Ziegler Sebastian.Ziegler@z
 immermann-vital.de  Tel. +49 (162) 298 12 87\nWeitere Infos \nfinden Sie
  hier im Flyer (PDF): Landshuter Wundkongress 2025
X-ALT-DESC;FMTTYPE=text/html:<h2>Programm:</h2>\n<ul> 	<li>08.00 Uhr - Beg
 inn der Industrieausstellung und Registrierung</li> 	<li>09.00 Uhr - Begrü
 ßung</li> </ul>\n<p><strong>Teil 1: Brennpunkt Lymphödem</strong></p>\n<
 ul> 	<li>09.10 Uhr - Dr. Sören Sörensen<br /> 	Grenzgänger im Gewebe: Ö
 deme an der Schnittstelle zwischen lokalen<br /> 	und systemischen Ursache
 n</li> 	<li>09.50 Uhr - Prof. Dr. med. Christian Taeger<br /> 	Lymphödem:
  Grenzen der konservativen Therapie - Wann kommt die Chirurgie ins Spiel?<
 /li> 	<li>10.30 Uhr - Monika Hofstetter<br /> 	Von der Schwellung bis zur 
 Heilung: Die Kunst der komplexen physikalischen Entstauung</li> 	<li>11.10
  Uhr - Pause\, Industrieausstellung</li> </ul>\n<p><strong>Teil 2: Kompete
 nz\, Kompakt: Neue Leitlinien</strong></p>\n<ul> 	<li>11.30 Uhr - Priv.-Do
 z. Dr. med. Dr. h.c. Georgios<br /> 	Meimarakis<br /> 	Die off ene “Wund
 e” der Wahrheit: Von der Theorie zur Praxis\, aktuelle Leitlinien für d
 as Ulcus cruris venosum</li> 	<li>12.10 Uhr - Cornelia Straßer<br /> 	Int
 egrales Debridement im 21. Jahrhundert Im Fokus des International Consensu
 s-Dokuments</li> 	<li>12.50 Uhr - Claudia Schatz<br /> 	Druckulzera: Inter
 nationale Zusammenarbeit und evidenzbasierte Fortschritte. Aktualisierte L
 eitlinien 2025</li> 	<li>13.30 Uhr - Mittagspause\, Industrieausstellung u
 nd Workshops</li> </ul>\n<p><strong>Teil 3: Herausforderungen\, die uns be
 wegen</strong></p>\n<ul> 	<li>15.00 Uhr - Dr. med. Maximilian Roeder<br />
  	Jenseits der Norm: Herausforderungen in der Diff erenzialdiagnose des Ul
 cus cruris</li> 	<li>15.40 Uhr - Oliver Gunia<br /> 	Wundversorgung am Ran
 de der Gesellschaft: Bericht aus der Praxis der Wundversorgung in sozialen
  Randgruppen</li> 	<li>16.20 Uhr - Stephan Hennecke<br /> 	Herausfordernde
 s Wundmanagement in Krisengebieten: Einblick hinter die Kulissen der human
 itären Medizin</li> 	<li>17.00 Uhr - Übergabe der Zertifikate</li> </ul>
 \n<h2>Workshops</h2>\n<p>Ein Workshop dauert 20 Minuten\, diese können wä
 hrend der Mittagspause optional besucht werden. Jeder Workshop ist auf 20 
 Teilnehmer begrenzt und findet zwei mal statt.</p>\n<p>Workshop 1: 13.30 -
  14.30 Uhr<br /> Workshop 2: 14:40 - 15.00 Uhr</p>\n<ol> 	<li>Biochirurgis
 ches Débridement\, Fa. Biomonde\, Martina Rivers</li> 	<li>IPK - intermit
 tierende pneumatische Kompression\, Klinikum Landshut AöR\, Semic Haris</
 li> 	<li>Lymphologische Kompression nach Lymphdrainage\, Physiotherapiezen
 trum Falkenberg\, Monika Hofstetter</li> 	<li>Medizinisch adaptive Kompres
 sion\, Fa. Göldner\, Jennifer Weißhuhn</li> </ol>\n<h2>Anmeldung</h2>\n<
 p>Sebastian Ziegler<br /> <a href="mailto:Sebastian.Ziegler@zimmermann-vit
 al.de">Sebastian.Ziegler@zimmermann-vital.de</a>&nbsp\;<br /> Tel. +49 (16
 2) 298 12 87</p>\n<h2>Weitere Infos&nbsp\;</h2>\n<p>finden Sie hier im Fly
 er (PDF):<a href="t3://file?uid=6885"> Landshuter Wundkongress 2025</a></p
 >
LOCATION:ta.la Tagungszentrum Landshut
END:VEVENT
END:VCALENDAR
